BEGIN:VCALENDAR
VERSION:2.0
PRODID:-//ChamberMaster//Event Calendar 2.0//EN
METHOD:PUBLISH
X-PUBLISHED-TTL:P3D
REFRESH-INTERVAL:P3D
CALSCALE:GREGORIAN
BEGIN:VEVENT
DTSTART:20260522T233000Z
DTEND:20260523T010000Z
X-MICROSOFT-CDO-ALLDAYEVENT:FALSE
SUMMARY:Memorial Day Band Concert
DESCRIPTION:This America 250 concert celebrates LIBERTY on Memorial Day weekend and honors all who gave the ultimate sacrifice in defense of these unalienable rights. Works by John Williams\, Glenn Miller and John Philip Sousa. Info: 508-240-2400 | artsempoweringlife.org (Free for Students & Youth)
X-ALT-DESC;FMTTYPE=text/html:This America 250 concert celebrates LIBERTY on Memorial Day weekend and honors all who gave the ultimate sacrifice in defense of these unalienable rights. Works by John Williams\, Glenn Miller and John Philip Sousa. Info: 508-240-2400 | artsempoweringlife.org (Free for Students &amp\; Youth)
LOCATION:Performing Arts Center 95 Southern Eagle Cartway Brewster\, MA 02631
UID:e.2444.5650
SEQUENCE:3
DTSTAMP:20260420T081924Z
URL:https://members.easthamchamber.com/events/details/memorial-day-band-concert-5650
END:VEVENT

END:VCALENDAR
