BEGIN:VCALENDAR
VERSION:2.0
PRODID:-//ChamberMaster//Event Calendar 2.0//EN
METHOD:PUBLISH
X-PUBLISHED-TTL:P3D
REFRESH-INTERVAL:P3D
CALSCALE:GREGORIAN
BEGIN:VEVENT
DTSTART:20260530T233000Z
DTEND:20260531T010000Z
X-MICROSOFT-CDO-ALLDAYEVENT:FALSE
SUMMARY:J. S. Bach’s St. Matthew Passion\, BWV 244
DESCRIPTION:Glori  Dei Cantores and Creare Symphonia\, under the direction of Richard K. Pugsley and joined by internationally acclaimed soloists\, present Bach's St. Matthew Passion\, perhaps the greatest masterpiece in all of sacred music\, written for solo voices\, double choir and double orchestra. Come hear this work of supreme beauty and profound emotion telling the story of Christ's last days in the stunning acoustic of the Church of the Transfiguration. Info: 508-240-2400 | artsempoweringlife.org (Free for Students & Youth)
X-ALT-DESC;FMTTYPE=text/html:Glori&aelig\; Dei Cantores and Creare Symphonia\, under the direction of Richard K. Pugsley and joined by internationally acclaimed soloists\, present Bach&#39\;s St. Matthew Passion\, perhaps the greatest masterpiece in all of sacred music\, written for solo voices\, double choir and double orchestra. Come hear this work of supreme beauty and profound emotion&mdash\;telling the story of Christ&#39\;s last days&mdash\;in the stunning acoustic of the Church of the Transfiguration. Info: 508-240-2400 | artsempoweringlife.org (Free for Students &amp\; Youth)
LOCATION:Church of the Transfiguration Rock Harbor\, Orleans\, MA 02653
UID:e.2444.5660
SEQUENCE:3
DTSTAMP:20260420T084200Z
URL:https://members.easthamchamber.com/events/details/j-s-bach-s-st-matthew-passion-bwv-244-05-30-2026-5660
END:VEVENT

END:VCALENDAR
